BEGIN:VCALENDAR
VERSION:2.0
PRODID:-//SCSSAP - Strategic Action Programme Implementation//NONSGML kigkonsult.se iCalcreator 2.41.92//
CALSCALE:GREGORIAN
METHOD:PUBLISH
UID:34303439-6264-4965-a532-393363393338
X-WR-CALNAME:iCagenda
X-WR-CALDESC:Event Management Extension for Joomla!
X-WR-RELCALID:3E26604A-50F4-4449-8B3E-E4F4932D05B5
X-WR-TIMEZONE:Asia/Bangkok
BEGIN:VTIMEZONE
TZID:Asia/Bangkok
BEGIN:STANDARD
TZNAME:+07
DTSTART:20230804T170000
TZOFFSETFROM:+0000
TZOFFSETTO:+0700
END:STANDARD
END:VTIMEZONE
BEGIN:VEVENT
UID:34343364-3965-4165-a530-653233306561
DTSTAMP:20260420T040336Z
CATEGORIES:Project Steering Committee
CLASS:PUBLIC
DESCRIPTION;ALTREP="CID:<FFFF__=0ABBE548DFE235B58f9e8a93d@coffeebean.com>":
 The SCS SAP Steering Committee’s role will be to provide managerial and go
 vernance advice to the project\, and to guide the Project Coordination Uni
 t (PCU)\, in the implementation and monitoring of the overall regional pro
 ject. The SCS SAP Steering Committee will also provide a regional forum fo
 r reviewing and resolving national concerns\, reviewing and approving annu
 al work plans and budgets\, and provide a regional forum for stakeholder p
 articipation. At the first meeting of the Steering Committee in June 2021\
 , the membership of the PSC was reconfirmed and reconstituted\, and the te
 rms of reference and meeting procedures were agreed upon by the members of
  the PSC. \n \n{loadmoduleid 593}
DTSTART:20250506T194800Z
DTEND:20250507T194800Z
GEO:00;0
LOCATION:Manila\, Philippines
ORGANIZER:
SEQUENCE:1
SUMMARY:Third Meeting of the Project Steering Committee
TRANSP:OPAQUE
URL:https://scssap.org/events/1-the-third-meeting-of-the-project-steering-c
 ommittee
END:VEVENT
END:VCALENDAR
