BEGIN:VCALENDAR
VERSION:2.0
PRODID:-//SCSSAP - Strategic Action Programme Implementation//NONSGML kigkonsult.se iCalcreator 2.41.92//
CALSCALE:GREGORIAN
METHOD:PUBLISH
UID:30376261-6434-4431-b765-323734643964
X-WR-CALNAME:iCagenda
X-WR-CALDESC:Event Management Extension for Joomla!
X-WR-RELCALID:3E26604A-50F4-4449-8B3E-E4F4932D05B5
X-WR-TIMEZONE:Asia/Bangkok
BEGIN:VTIMEZONE
TZID:Asia/Bangkok
BEGIN:STANDARD
TZNAME:+07
DTSTART:20240310T170000
TZOFFSETFROM:+0000
TZOFFSETTO:+0700
END:STANDARD
END:VTIMEZONE
BEGIN:VEVENT
UID:38633363-3065-4239-b964-353964646439
DTSTAMP:20260420T040828Z
CATEGORIES:Project Steering Committee
CLASS:PUBLIC
DESCRIPTION;ALTREP="CID:<FFFF__=0ABBE548DFE235B58f9e8a93d@coffeebean.com>":
 The meeting is part of the Strategic Action Programme for the South China 
 Sea and Gulf of Thailand (SCS SAP Project)\, focusing on evaluating action
 s to address transboundary environmental problems in the SCS-GOT Large Mar
 ine Ecosystems (LMEs). The primary objective is to discuss developing a te
 mplate guidance for implementing a Cost-Benefit Analysis (CBA) of core act
 ions\, which will be used to rank recommended regional and national action
 s based on their NET BENEFITS (social\, ecological\, economical\, and clim
 ate-resilient) for implementation by bodies like COBSEA. The agenda includ
 es presentations and discussions on recommended actions across various the
 mes (Ecosystems\, Pollution\, Fisheries\, Climate Mitigation\, and Governa
 nce) at both LME and national scales. A key consideration is ensuring the 
 social aspects of the transition are just\, specifically by integrating ge
 nder equality and vulnerable populations into the CBA metrics (COSTS and B
 ENEFITS). The meeting concludes with the RTF-EV Response and discussion on
  the technical aspects of the CBA (50 minutes total)\, followed by chartin
 g next steps for developing a guidance document for national teams and dev
 eloping the CBA for the Regional SAP.\n{loadmoduleid 640}
DTSTART:20251211T020000Z
DTEND:20251211T020000Z
GEO:00;0
LOCATION:online
ORGANIZER:
SEQUENCE:1
SUMMARY:Meeting of the Regional Task Force on Economic Valuation
TRANSP:OPAQUE
URL:https://scssap.org/events/24-the-preparatory-online-rtf-ev-meeting-on-1
 1-december-2025/2025-12-11-09-00
END:VEVENT
END:VCALENDAR
