BEGIN:VCALENDAR
VERSION:2.0
PRODID:-//SCSSAP - Strategic Action Programme Implementation//NONSGML kigkonsult.se iCalcreator 2.41.92//
CALSCALE:GREGORIAN
METHOD:PUBLISH
UID:36613765-3264-4135-b337-386461633765
X-WR-CALNAME:iCagenda
X-WR-CALDESC:Event Management Extension for Joomla!
X-WR-RELCALID:3E26604A-50F4-4449-8B3E-E4F4932D05B5
X-WR-TIMEZONE:Asia/Bangkok
BEGIN:VTIMEZONE
TZID:Asia/Bangkok
BEGIN:STANDARD
TZNAME:+07
DTSTART:20240504T170000
TZOFFSETFROM:+0000
TZOFFSETTO:+0700
END:STANDARD
END:VTIMEZONE
BEGIN:VEVENT
UID:66393264-3261-4938-b139-656133636261
DTSTAMP:20260420T041314Z
CATEGORIES:Coral reef
CLASS:PUBLIC
DESCRIPTION;ALTREP="CID:<FFFF__=0ABBE548DFE235B58f9e8a93d@coffeebean.com>":
 The Green Fins Regional Workshop is a four-day strategic event focused on 
 enhancing regional capacity and strengthening regional alliance between Ph
 ilippines and Indonesia in mitigating transboundary threats arising from m
 arine tourism activities. This event took place from 4-7 February 2026 in 
 Bali\, Indonesia. \nMore specifically\, workshop aims to : \n\n\nShare and
  validate data-driven policy tools to mitigate tourism-related threats to 
 marine ecosystems.\n\n\nAlign regional needs with national plans to ensure
  long-term funding and institutional support for Green Fins.\n\n\nAccelera
 te the use of citizen science and AI tools in Indonesia and the Philippine
 s to strengthen evidence-based policy and transboundary enforcement.\n\n\n
 This event is co-organized by SCS SAP and Reef-World Foundation as part of
  the project ‘Improving ecotourism standards in the region by mainstreamin
 g Green Fins’. The project aims to integrate internationally recognized ma
 rine ecotourism standards in the marine tourism industry of the region to 
 ensure transboundary collaboration for sustainable blue economic impact to
  local communities\, marine ecosystems and species.\n 
DTSTART:20260204T070100Z
DTEND:20260207T070100Z
GEO:00;0
LOCATION:Coral Triangle Center
ORGANIZER;CN=:mailto:info@scssap.org
SEQUENCE:1
SUMMARY:Green Fins Regional Workshop
TRANSP:OPAQUE
URL:https://scssap.org/events/25-green-fins-regional-workshop
END:VEVENT
END:VCALENDAR
