BEGIN:VCALENDAR
VERSION:2.0
PRODID:-//SCSSAP - Strategic Action Programme Implementation//NONSGML kigkonsult.se iCalcreator 2.41.92//
CALSCALE:GREGORIAN
METHOD:PUBLISH
UID:64653135-3864-4566-b364-613035396439
X-WR-CALNAME:iCagenda
X-WR-CALDESC:Event Management Extension for Joomla!
X-WR-RELCALID:3E26604A-50F4-4449-8B3E-E4F4932D05B5
X-WR-TIMEZONE:Asia/Bangkok
BEGIN:VTIMEZONE
TZID:Asia/Bangkok
BEGIN:STANDARD
TZNAME:+07
DTSTART:20231109T170000
TZOFFSETFROM:+0000
TZOFFSETTO:+0700
END:STANDARD
END:VTIMEZONE
BEGIN:VEVENT
UID:38326366-3430-4063-b566-613064656331
DTSTAMP:20260420T040000Z
CATEGORIES:Coastal habitats
CLASS:PUBLIC
DESCRIPTION;ALTREP="CID:<FFFF__=0ABBE548DFE235B58f9e8a93d@coffeebean.com>":
 For nearly four years\, the SCS SAP Project Regional Working Groups on coa
 stal and marine ecosystems have moved from virtual meetings to an on-the-g
 round gathering in Iloilo City\, Philippines. This marks the first in-pers
 on meeting for these groups since their inaugural virtual sessions in Dece
 mber 2021. The four-year gap has been challenging\, as the six SCS SAP cou
 ntries face pressure to achieve global commitments on climate\, biodiversi
 ty\, and the Sustainable Development Goals (SDGs). This pivotal meeting ha
 s created a critical space for richer\, more dynamic discussions on the Tr
 ansboundary Diagnostic Analysis/Strategic Action Programme (TDA/SAP) proce
 ss.\n{loadmoduleid 609}
DTSTART:20250811T020000Z
DTEND:20250812T100000Z
GEO:+10.713861;+122.544617
LOCATION:Iloilo\, Philippines
ORGANIZER;CN=:mailto:info@scssap.org
SEQUENCE:1
SUMMARY:Second Meeting of the Regional Working Groups on Coastal and Marine
  Ecosystems
TRANSP:OPAQUE
URL:https://scssap.org/events/3-2025-2ndrwg
END:VEVENT
END:VCALENDAR
