BEGIN:VCALENDAR
VERSION:2.0
PRODID:-//SCSSAP - Strategic Action Programme Implementation//NONSGML kigkonsult.se iCalcreator 2.41.92//
CALSCALE:GREGORIAN
METHOD:PUBLISH
UID:32343332-3330-4832-a164-613962366636
X-WR-CALNAME:iCagenda
X-WR-CALDESC:Event Management Extension for Joomla!
X-WR-RELCALID:3E26604A-50F4-4449-8B3E-E4F4932D05B5
X-WR-TIMEZONE:Asia/Bangkok
BEGIN:VTIMEZONE
TZID:Asia/Bangkok
BEGIN:STANDARD
TZNAME:+07
DTSTART:20231215T170000
TZOFFSETFROM:+0000
TZOFFSETTO:+0700
END:STANDARD
END:VTIMEZONE
BEGIN:VEVENT
UID:32633533-6138-4133-b939-663562336562
DTSTAMP:20260420T041014Z
CATEGORIES:Integrated coastal management
CLASS:PUBLIC
DESCRIPTION;ALTREP="CID:<FFFF__=0ABBE548DFE235B58f9e8a93d@coffeebean.com>":
 The 2025 PEMSEA Network of Local Governments (PNLG) Forum is an annual loc
 al governance event focusing on the implementation of Integrated Coastal M
 anagement (ICM). This event took place from September 16-18\, 2025\, in Ja
 karta\, Indonesia\, and brought together heads of government and senior of
 ficials from PNLG member local governments across East Asia\, along with m
 arine experts. The theme for this year's forum is 'Towards a Sustainable a
 nd Inclusive Blue Economy: Linking Climate\, Nature and Energy'. This them
 e aligns with Jakarta's commitment to integrated coastal and marine manage
 ment and its broader vision for a sustainable future.\nThe PNLG is a major
  driving force in operationalizing the Sustainable Development Strategy fo
 r the Seas of East Asia (SDS-SEA) under the broad framework of PEMSEA (Par
 tnerships in Environmental Management for the Seas of East Asia). The Foru
 m's primary goal is to improve coordination and communication and provide 
 opportunities to share best practices on integrated management approaches.
 \nAs part of the PNLG Forum\, a SCS SAP Roundtable Session was organized o
 n 17 September 2025 where the SCS SAP participating countries presented an
 d shared their achievements and experiences at site level. The PCU of SCS-
 SAP Project also presented the SCS SAP implementation achievements at regi
 onal and national level\, including the ongoing collaboration with PEMSEA.
 \n \n{loadmoduleid 610}
DTSTART:20250916T020000Z
DTEND:20250918T100000Z
GEO:-06.195215;+106.822029
LOCATION:Hotel Indonesia Kempinski Jakarta
ORGANIZER;CN=:mailto:info@scssap.org
SEQUENCE:1
SUMMARY:SCS SAP–PEMSEA Collaboration on Learning Exchange and Study Tours T
 hrough Participation in the PEMSEA Network of Local Governments (PNLG) for
  Sustainable Coastal Development
TRANSP:OPAQUE
URL:https://scssap.org/events/4-scs-sap-pemsea-collaboration-on-learning-ex
 change-and-study-tours-through-participation-in-the-pemsea-network-of-loca
 l-governments-pnlg-for-sustainable-coastal-development
END:VEVENT
END:VCALENDAR
